BEGIN:VCALENDAR
VERSION:2.0
PRODID:-//Verein für Hörgeschädigtenhilfe Paderborn e.V. - ECPv6.15.20//NONSGML v1.0//EN
CALSCALE:GREGORIAN
METHOD:PUBLISH
X-WR-CALNAME:Verein für Hörgeschädigtenhilfe Paderborn e.V.
X-ORIGINAL-URL:https://hgh-pb.de
X-WR-CALDESC:Veranstaltungen für Verein für Hörgeschädigtenhilfe Paderborn e.V.
REFRESH-INTERVAL;VALUE=DURATION:PT1H
X-Robots-Tag:noindex
X-PUBLISHED-TTL:PT1H
BEGIN:VTIMEZONE
TZID:Europe/Berlin
BEGIN:DAYLIGHT
TZOFFSETFROM:+0100
TZOFFSETTO:+0200
TZNAME:CEST
DTSTART:20230326T010000
END:DAYLIGHT
BEGIN:STANDARD
TZOFFSETFROM:+0200
TZOFFSETTO:+0100
TZNAME:CET
DTSTART:20231029T010000
END:STANDARD
BEGIN:DAYLIGHT
TZOFFSETFROM:+0100
TZOFFSETTO:+0200
TZNAME:CEST
DTSTART:20240331T010000
END:DAYLIGHT
BEGIN:STANDARD
TZOFFSETFROM:+0200
TZOFFSETTO:+0100
TZNAME:CET
DTSTART:20241027T010000
END:STANDARD
BEGIN:DAYLIGHT
TZOFFSETFROM:+0100
TZOFFSETTO:+0200
TZNAME:CEST
DTSTART:20250330T010000
END:DAYLIGHT
BEGIN:STANDARD
TZOFFSETFROM:+0200
TZOFFSETTO:+0100
TZNAME:CET
DTSTART:20251026T010000
END:STANDARD
END:VTIMEZONE
BEGIN:VEVENT
DTSTART;TZID=Europe/Berlin:20240806T100000
DTEND;TZID=Europe/Berlin:20240806T130000
DTSTAMP:20260422T164815
CREATED:20240527T161246Z
LAST-MODIFIED:20240527T161246Z
UID:2055-1722938400-1722949200@hgh-pb.de
SUMMARY:Schatzsuche im Schlosspark
DESCRIPTION:Ein Angebot für Kinder. Das Angebot ist kostenlos. Eine Anmeldung ist notwendig! \nWeitere Informationen gibt es bei der Anmeldung.
URL:https://hgh-pb.de/event/schatzsuche-im-schlosspark/
LOCATION:Paderborn-Schloss-Neuhaus
CATEGORIES:Alle Veranstaltungen,Kinder- und Jugendliche
ORGANIZER;CN="Renate Nowatzki":MAILTO:r.nowatzki@hgh-pb.de
END:VEVENT
BEGIN:VEVENT
DTSTART;TZID=Europe/Berlin:20240813T093000
DTEND;TZID=Europe/Berlin:20240813T143000
DTSTAMP:20260422T164815
CREATED:20240527T161537Z
LAST-MODIFIED:20240527T161621Z
UID:2060-1723541400-1723559400@hgh-pb.de
SUMMARY:Vogelpark in Heiligenkirchen
DESCRIPTION:Der Ausflug ist für Kinder. Eine Anmeldung ist notwendig. Das Angebot ist kostenlos! \nBei der Anmeldung gibt es weitere Informationen.
URL:https://hgh-pb.de/event/vogelpark-in-heiligenkirchen/
LOCATION:Vogelpark\, Detmold-Heiligenkirchen
CATEGORIES:Alle Veranstaltungen,Kinder- und Jugendliche
ORGANIZER;CN="Renate Nowatzki":MAILTO:r.nowatzki@hgh-pb.de
END:VEVENT
END:VCALENDAR