BEGIN:VCALENDAR
VERSION:2.0
PRODID:-//Verein für Hörgeschädigtenhilfe Paderborn e.V. - ECPv6.15.20//NONSGML v1.0//EN
CALSCALE:GREGORIAN
METHOD:PUBLISH
X-ORIGINAL-URL:https://hgh-pb.de
X-WR-CALDESC:Veranstaltungen für Verein für Hörgeschädigtenhilfe Paderborn e.V.
REFRESH-INTERVAL;VALUE=DURATION:PT1H
X-Robots-Tag:noindex
X-PUBLISHED-TTL:PT1H
BEGIN:VTIMEZONE
TZID:Europe/Berlin
BEGIN:DAYLIGHT
TZOFFSETFROM:+0100
TZOFFSETTO:+0200
TZNAME:CEST
DTSTART:20230326T010000
END:DAYLIGHT
BEGIN:STANDARD
TZOFFSETFROM:+0200
TZOFFSETTO:+0100
TZNAME:CET
DTSTART:20231029T010000
END:STANDARD
BEGIN:DAYLIGHT
TZOFFSETFROM:+0100
TZOFFSETTO:+0200
TZNAME:CEST
DTSTART:20240331T010000
END:DAYLIGHT
BEGIN:STANDARD
TZOFFSETFROM:+0200
TZOFFSETTO:+0100
TZNAME:CET
DTSTART:20241027T010000
END:STANDARD
BEGIN:DAYLIGHT
TZOFFSETFROM:+0100
TZOFFSETTO:+0200
TZNAME:CEST
DTSTART:20250330T010000
END:DAYLIGHT
BEGIN:STANDARD
TZOFFSETFROM:+0200
TZOFFSETTO:+0100
TZNAME:CET
DTSTART:20251026T010000
END:STANDARD
END:VTIMEZONE
BEGIN:VEVENT
DTSTART;TZID=Europe/Berlin:20241015T133000
DTEND;TZID=Europe/Berlin:20241015T173000
DTSTAMP:20260422T191607
CREATED:20240906T083549Z
LAST-MODIFIED:20240906T084409Z
UID:2150-1728999000-1729013400@hgh-pb.de
SUMMARY:Auf dem Grüffelo-Pfad durch den Wald
DESCRIPTION:Mit Kinder mache ich einen Ausflug nach Bad Lippspringe in die Landesgartenschau. \nWir wandern über den Grüffelo-Pfad\, toben auf Spielplätzen und suchen Schätze. \nEine Anmeldung ist erforderlich. Das Angebot ist kostenlos. Weitere Informationen gibt es bei der Anmeldung.
URL:https://hgh-pb.de/event/auf-dem-grueffelo-pfad-durch-den-wald/
LOCATION:Landesgartenschau Bad Lippspringe\, Bad Lippspringe\, Deutschland
CATEGORIES:Kinder- und Jugendliche
ORGANIZER;CN="Renate Nowatzki":MAILTO:r.nowatzki@hgh-pb.de
END:VEVENT
END:VCALENDAR