BEGIN:VCALENDAR
VERSION:2.0
PRODID:-//Verein für Hörgeschädigtenhilfe Paderborn e.V. - ECPv6.15.20//NONSGML v1.0//EN
CALSCALE:GREGORIAN
METHOD:PUBLISH
X-ORIGINAL-URL:https://hgh-pb.de
X-WR-CALDESC:Veranstaltungen für Verein für Hörgeschädigtenhilfe Paderborn e.V.
REFRESH-INTERVAL;VALUE=DURATION:PT1H
X-Robots-Tag:noindex
X-PUBLISHED-TTL:PT1H
BEGIN:VTIMEZONE
TZID:Europe/Berlin
BEGIN:DAYLIGHT
TZOFFSETFROM:+0100
TZOFFSETTO:+0200
TZNAME:CEST
DTSTART:20230326T010000
END:DAYLIGHT
BEGIN:STANDARD
TZOFFSETFROM:+0200
TZOFFSETTO:+0100
TZNAME:CET
DTSTART:20231029T010000
END:STANDARD
BEGIN:DAYLIGHT
TZOFFSETFROM:+0100
TZOFFSETTO:+0200
TZNAME:CEST
DTSTART:20240331T010000
END:DAYLIGHT
BEGIN:STANDARD
TZOFFSETFROM:+0200
TZOFFSETTO:+0100
TZNAME:CET
DTSTART:20241027T010000
END:STANDARD
BEGIN:DAYLIGHT
TZOFFSETFROM:+0100
TZOFFSETTO:+0200
TZNAME:CEST
DTSTART:20250330T010000
END:DAYLIGHT
BEGIN:STANDARD
TZOFFSETFROM:+0200
TZOFFSETTO:+0100
TZNAME:CET
DTSTART:20251026T010000
END:STANDARD
END:VTIMEZONE
BEGIN:VEVENT
DTSTART;TZID=Europe/Berlin:20241214T140000
DTEND;TZID=Europe/Berlin:20241214T170000
DTSTAMP:20260422T214210
CREATED:20240906T085759Z
LAST-MODIFIED:20241029T152053Z
UID:2163-1734184800-1734195600@hgh-pb.de
SUMMARY:Plätzchen backen
DESCRIPTION:Dies ist ein Angebot für Kinder. Gemeinsam backen wir verschiedene Plätzchen. \nDas Angebot ist kostenlos. Eine Anmeldung ist erforderlich.
URL:https://hgh-pb.de/event/plaetzchen-backen/
LOCATION:Beratungsstelle\, Bleichstr. 70\, Paderborn\, 33102
CATEGORIES:Kinder- und Jugendliche
ORGANIZER;CN="Renate Nowatzki":MAILTO:r.nowatzki@hgh-pb.de
END:VEVENT
END:VCALENDAR