BEGIN:VCALENDAR
VERSION:2.0
PRODID:-//Verein für Hörgeschädigtenhilfe Paderborn e.V. - ECPv6.15.20//NONSGML v1.0//EN
CALSCALE:GREGORIAN
METHOD:PUBLISH
X-WR-CALNAME:Verein für Hörgeschädigtenhilfe Paderborn e.V.
X-ORIGINAL-URL:https://hgh-pb.de
X-WR-CALDESC:Veranstaltungen für Verein für Hörgeschädigtenhilfe Paderborn e.V.
REFRESH-INTERVAL;VALUE=DURATION:PT1H
X-Robots-Tag:noindex
X-PUBLISHED-TTL:PT1H
BEGIN:VTIMEZONE
TZID:Europe/Berlin
BEGIN:DAYLIGHT
TZOFFSETFROM:+0100
TZOFFSETTO:+0200
TZNAME:CEST
DTSTART:20240331T010000
END:DAYLIGHT
BEGIN:STANDARD
TZOFFSETFROM:+0200
TZOFFSETTO:+0100
TZNAME:CET
DTSTART:20241027T010000
END:STANDARD
BEGIN:DAYLIGHT
TZOFFSETFROM:+0100
TZOFFSETTO:+0200
TZNAME:CEST
DTSTART:20250330T010000
END:DAYLIGHT
BEGIN:STANDARD
TZOFFSETFROM:+0200
TZOFFSETTO:+0100
TZNAME:CET
DTSTART:20251026T010000
END:STANDARD
BEGIN:DAYLIGHT
TZOFFSETFROM:+0100
TZOFFSETTO:+0200
TZNAME:CEST
DTSTART:20260329T010000
END:DAYLIGHT
BEGIN:STANDARD
TZOFFSETFROM:+0200
TZOFFSETTO:+0100
TZNAME:CET
DTSTART:20261025T010000
END:STANDARD
END:VTIMEZONE
BEGIN:VEVENT
DTSTART;TZID=Europe/Berlin:20250315T133000
DTEND;TZID=Europe/Berlin:20250315T173000
DTSTAMP:20260423T013556
CREATED:20231214T140602Z
LAST-MODIFIED:20241209T150924Z
UID:1812-1742045400-1742059800@hgh-pb.de
SUMMARY:Ausflug zu einem Pferdehof
DESCRIPTION:Kinder lernen die Pferde und weitere Tiere auf dem Hof kennen. Sie dürfen die Pferde putzen\, satteln und auch reiten. \nEine Anmeldung ist notwendig! Der Treffpunkt wird mitgeteilt. Das Angebot ist kostenlos.
URL:https://hgh-pb.de/event/ausflug-zum-bauernhof-2/
LOCATION:Borchen\, NRW\, Deutschland
CATEGORIES:Alle Veranstaltungen,Kinder- und Jugendliche
ORGANIZER;CN="Renate Nowatzki":MAILTO:r.nowatzki@hgh-pb.de
END:VEVENT
END:VCALENDAR