BEGIN:VCALENDAR
VERSION:2.0
PRODID:-//Verein für Hörgeschädigtenhilfe Paderborn e.V. - ECPv6.15.20//NONSGML v1.0//EN
CALSCALE:GREGORIAN
METHOD:PUBLISH
X-ORIGINAL-URL:https://hgh-pb.de
X-WR-CALDESC:Veranstaltungen für Verein für Hörgeschädigtenhilfe Paderborn e.V.
REFRESH-INTERVAL;VALUE=DURATION:PT1H
X-Robots-Tag:noindex
X-PUBLISHED-TTL:PT1H
BEGIN:VTIMEZONE
TZID:Europe/Berlin
BEGIN:DAYLIGHT
TZOFFSETFROM:+0100
TZOFFSETTO:+0200
TZNAME:CEST
DTSTART:20240331T010000
END:DAYLIGHT
BEGIN:STANDARD
TZOFFSETFROM:+0200
TZOFFSETTO:+0100
TZNAME:CET
DTSTART:20241027T010000
END:STANDARD
BEGIN:DAYLIGHT
TZOFFSETFROM:+0100
TZOFFSETTO:+0200
TZNAME:CEST
DTSTART:20250330T010000
END:DAYLIGHT
BEGIN:STANDARD
TZOFFSETFROM:+0200
TZOFFSETTO:+0100
TZNAME:CET
DTSTART:20251026T010000
END:STANDARD
BEGIN:DAYLIGHT
TZOFFSETFROM:+0100
TZOFFSETTO:+0200
TZNAME:CEST
DTSTART:20260329T010000
END:DAYLIGHT
BEGIN:STANDARD
TZOFFSETFROM:+0200
TZOFFSETTO:+0100
TZNAME:CET
DTSTART:20261025T010000
END:STANDARD
END:VTIMEZONE
BEGIN:VEVENT
DTSTART;TZID=Europe/Berlin:20250830T100000
DTEND;TZID=Europe/Berlin:20250830T130000
DTSTAMP:20260423T075353
CREATED:20250620T094218Z
LAST-MODIFIED:20250620T094504Z
UID:2373-1756548000-1756558800@hgh-pb.de
SUMMARY:Paderwichtel-Entdeckungstour
DESCRIPTION:Wir spazieren durch Paderborn und entdecken die kleinen Wichtel an verschiedenen Orten. \nDas Angebot ist kostenlos. Eine Anmeldung ist erforderlich. \n 
URL:https://hgh-pb.de/event/paderwichtel-entdeckungstour/
LOCATION:Paderborn
CATEGORIES:Alle Veranstaltungen,Kinder- und Jugendliche
ORGANIZER;CN="Renate Nowatzki":MAILTO:r.nowatzki@hgh-pb.de
END:VEVENT
END:VCALENDAR